BEGIN:VCALENDAR
VERSION:2.0
PRODID:-//Tukios.com/
BEGIN:VEVENT
UID:8c47f666-b7f7-4336-aaf4-8fafc4332789@www.stricklandfuneralhomes.com
DTSTAMP:20260419T115604Z
DTSTART:20260421T150000Z
DTEND:20260421T160000Z
SUMMARY:Mass of Christian Burial
DESCRIPTION:
URL:https://www.stricklandfuneralhomes.com/obituaries/lucia-orozco
LOCATION: 333 Thornberry Dr  Somerville TX 77879
GEO:30.351228;-96.5372704
END:VEVENT
END:VCALENDAR