BEGIN:VCALENDAR
VERSION:2.0
PRODID:-//Tukios.com/
BEGIN:VEVENT
UID:cbff8670-7cff-49ab-8a1b-d625ea2a7813@www.stricklandfuneralhomes.com
DTSTAMP:20260423T223052Z
DTSTART:20260427T170000Z
DTEND:20260427T180000Z
SUMMARY:Burial
DESCRIPTION:
URL:https://www.stricklandfuneralhomes.com/obituaries/leo-warneck
LOCATION:    Somerville TX 77879
GEO:30.3460432;-96.5283022
END:VEVENT
END:VCALENDAR