BEGIN:VCALENDAR
VERSION:2.0
PRODID:-//Tukios.com/
BEGIN:VEVENT
UID:02b18c3e-6dfc-4a98-95bc-29c63b1ad444@www.stricklandfuneralhomes.com
DTSTAMP:20260423T222138Z
DTSTART:20260427T160000Z
DTEND:20260427T170000Z
SUMMARY:Funeral Service
DESCRIPTION:
URL:https://www.stricklandfuneralhomes.com/obituaries/leo-warneck
LOCATION: 530 TX-36  Caldwell TX 77836
GEO:30.5319618;-96.6886533
END:VEVENT
END:VCALENDAR