BEGIN:VCALENDAR
VERSION:2.0
PRODID:-//Tukios.com/
BEGIN:VEVENT
UID:e4644335-cf1c-412d-b63a-a2be0146a235@www.stricklandfuneralhomes.com
DTSTAMP:20260423T222125Z
DTSTART:20260427T153000Z
DTEND:20260427T160000Z
SUMMARY:Visitation
DESCRIPTION:
URL:https://www.stricklandfuneralhomes.com/obituaries/leo-warneck
LOCATION: 530 TX-36  Caldwell TX 77836
GEO:30.5319618;-96.6886533
END:VEVENT
END:VCALENDAR