BEGIN:VCALENDAR
VERSION:2.0
PRODID:-//Tukios.com/
BEGIN:VEVENT
UID:8b303e9b-ab3e-4100-84a1-4367e4682a4c@www.stricklandfuneralhomes.com
DTSTAMP:20260423T222923Z
DTSTART:20260427T150000Z
DTEND:20260427T160000Z
SUMMARY:Rosary
DESCRIPTION:
URL:https://www.stricklandfuneralhomes.com/obituaries/leo-warneck
LOCATION: 530 TX-36  Caldwell TX 77836
GEO:30.5319618;-96.6886533
END:VEVENT
END:VCALENDAR