BEGIN:VCALENDAR
VERSION:2.0
PRODID:-//Tukios.com/
BEGIN:VEVENT
UID:4c1f0db9-1105-4c16-b182-8871d6d4bedb@www.stricklandfuneralhomes.com
DTSTAMP:20260422T032009Z
DTSTART:20260422T150000Z
DTEND:20260422T160000Z
SUMMARY:Funeral Service
DESCRIPTION:
URL:https://www.stricklandfuneralhomes.com/obituaries/emma-vela
LOCATION:Lyons Community Chapel 14805 TX-36  Somerville TX 77879
GEO:30.3764804;-96.5557014
END:VEVENT
END:VCALENDAR