BEGIN:VCALENDAR
VERSION:2.0
PRODID:-//Tukios.com/
BEGIN:VEVENT
UID:2e9782cb-b7a3-4067-8c7d-d9e5696005dc@www.stricklandfuneralhomes.com
DTSTAMP:20260422T032615Z
DTSTART:20260422T130000Z
DTEND:20260422T150000Z
SUMMARY:Visitation
DESCRIPTION:
URL:https://www.stricklandfuneralhomes.com/obituaries/emma-vela
LOCATION:Lyons Community Chapel 14805 TX-36  Somerville TX 77879
GEO:30.3764804;-96.5557014
END:VEVENT
END:VCALENDAR