BEGIN:VCALENDAR
VERSION:2.0
PRODID:-//Tukios.com/
BEGIN:VEVENT
UID:094449ae-762c-45db-ae5e-4ec0da01fd7b@www.stricklandfuneralhomes.com
DTSTAMP:20260425T202901Z
DTSTART:20260428T160000Z
DTEND:20260428T170000Z
SUMMARY:Burial
DESCRIPTION:
URL:https://www.stricklandfuneralhomes.com/obituaries/alice-miguel
LOCATION: W 12th St  Caldwell TX 77836
GEO:30.52449;-96.699535
END:VEVENT
END:VCALENDAR