BEGIN:VCALENDAR
VERSION:2.0
PRODID:-//Tukios.com/
BEGIN:VEVENT
UID:495fcea4-52f5-43dc-b469-29d2bdaeceb7@www.stricklandfuneralhomes.com
DTSTAMP:20260425T202134Z
DTSTART:20260428T150000Z
DTEND:20260428T160000Z
SUMMARY:Celebration of Life
DESCRIPTION:
URL:https://www.stricklandfuneralhomes.com/obituaries/alice-miguel
LOCATION: 530 TX-36  Caldwell TX 77836
GEO:30.5319618;-96.6886533
END:VEVENT
END:VCALENDAR